BEGIN:VCALENDAR
VERSION:2.0
PRODID:-//pretix//pretix.eu//
BEGIN:VTIMEZONE
TZID:Europe/Berlin
BEGIN:STANDARD
DTSTART:20001029T040000
RRULE:FREQ=YEARLY;BYDAY=-1SU;BYMONTH=10
TZNAME:CET
TZOFFSETFROM:+0200
TZOFFSETTO:+0100
END:STANDARD
BEGIN:DAYLIGHT
DTSTART:20000326T030000
RRULE:FREQ=YEARLY;BYDAY=-1SU;BYMONTH=3
TZNAME:CEST
TZOFFSETFROM:+0100
TZOFFSETTO:+0200
END:DAYLIGHT
END:VTIMEZONE
BEGIN:VEVENT
UID:pretix-ada-projekt-dummy-4891893@anmeldung.ai-data.academy
DTSTART;TZID=Europe/Berlin:20260331T000000
DTEND;TZID=Europe/Berlin:20260331T235959
DESCRIPTION:Tickets: https://anmeldung.ai-data.academy/dummy/4891893/\nOrga
 nizer: ADA
DTSTAMP:20260422T043606Z
LOCATION:openSenseLab gGmbH\, Von-Steuben-Str. 21\, 48143 Münster
SUMMARY:ADA Dummy Event
END:VEVENT
END:VCALENDAR
